BEGIN:VCALENDAR
VERSION:2.0
PRODID:-//Schaakvereniging Son en Breugel - ECPv6.15.13.1//NONSGML v1.0//EN
CALSCALE:GREGORIAN
METHOD:PUBLISH
X-ORIGINAL-URL:https://www.sv-sonenbreugel.nl
X-WR-CALDESC:Evenementen voor Schaakvereniging Son en Breugel
REFRESH-INTERVAL;VALUE=DURATION:PT1H
X-Robots-Tag:noindex
X-PUBLISHED-TTL:PT1H
BEGIN:VTIMEZONE
TZID:UTC
BEGIN:STANDARD
TZOFFSETFROM:+0000
TZOFFSETTO:+0000
TZNAME:UTC
DTSTART:20240101T000000
END:STANDARD
END:VTIMEZONE
BEGIN:VEVENT
DTSTART;TZID=UTC:20260307T130000
DTEND;TZID=UTC:20260307T173000
DTSTAMP:20260420T135521
CREATED:20180908T132026Z
LAST-MODIFIED:20250913T103458Z
UID:393-1772888400-1772904600@www.sv-sonenbreugel.nl
SUMMARY:Zaterdagcompetitie (7)
DESCRIPTION:Eindhoven 5 – Son en Breugel 1
URL:https://www.sv-sonenbreugel.nl/event/zaterdagcompetitie-7/
LOCATION:De Boerderij\, Leeuwstraat 2\, Son en Breugel\, 5694 VR\, Nederland
CATEGORIES:Competitie
END:VEVENT
BEGIN:VEVENT
DTSTART;TZID=UTC:20260207T130000
DTEND;TZID=UTC:20260207T180000
DTSTAMP:20260420T135521
CREATED:20180908T131723Z
LAST-MODIFIED:20250913T103437Z
UID:391-1770469200-1770487200@www.sv-sonenbreugel.nl
SUMMARY:Zaterdagcompetitie (6)
DESCRIPTION:Son en Breugel 1 – SV De Kentering 3
URL:https://www.sv-sonenbreugel.nl/event/zaterdagcompetitie-6/
LOCATION:De Boerderij\, Leeuwstraat 2\, Son en Breugel\, 5694 VR\, Nederland
CATEGORIES:Competitie
END:VEVENT
BEGIN:VEVENT
DTSTART;TZID=UTC:20251213T130000
DTEND;TZID=UTC:20251213T180000
DTSTAMP:20260420T135521
CREATED:20180908T131512Z
LAST-MODIFIED:20250913T103406Z
UID:387-1765630800-1765648800@www.sv-sonenbreugel.nl
SUMMARY:Zaterdagcompetitie (4)
DESCRIPTION:Son en Breugel 1 – Oisterwijk/Oude Toren Combinatie 2 \n 
URL:https://www.sv-sonenbreugel.nl/event/zaterdagcompetitie-4/
LOCATION:De Boerderij\, Leeuwstraat 2\, Son en Breugel\, 5694 VR\, Nederland
CATEGORIES:Competitie
END:VEVENT
BEGIN:VEVENT
DTSTART;TZID=UTC:20251122T130000
DTEND;TZID=UTC:20251122T180000
DTSTAMP:20260420T135521
CREATED:20180908T131419Z
LAST-MODIFIED:20250913T103328Z
UID:385-1763816400-1763834400@www.sv-sonenbreugel.nl
SUMMARY:Zaterdagcompetitie (3)
DESCRIPTION:Deurne 1 – Son en Breugel 1 \n 
URL:https://www.sv-sonenbreugel.nl/event/zaterdagcompetitie-3/
CATEGORIES:Competitie
END:VEVENT
BEGIN:VEVENT
DTSTART;TZID=UTC:20251101T130000
DTEND;TZID=UTC:20251101T180000
DTSTAMP:20260420T135521
CREATED:20180908T132532Z
LAST-MODIFIED:20250913T103302Z
UID:383-1762002000-1762020000@www.sv-sonenbreugel.nl
SUMMARY:Zaterdagcompetitie (2)
DESCRIPTION:Son en Breugel 1 – De Vughtse Toren 3
URL:https://www.sv-sonenbreugel.nl/event/zaterdagcompetitie-2/
LOCATION:De Boerderij\, Leeuwstraat 2\, Son en Breugel\, 5694 VR\, Nederland
CATEGORIES:Competitie
END:VEVENT
END:VCALENDAR